BEGIN:VCALENDAR
VERSION:2.0
PRODID:-//California Association of Mutual Water Companies - ECPv6.15.20//NONSGML v1.0//EN
CALSCALE:GREGORIAN
METHOD:PUBLISH
X-WR-CALNAME:California Association of Mutual Water Companies
X-ORIGINAL-URL:https://calmutuals.org
X-WR-CALDESC:Events for California Association of Mutual Water Companies
REFRESH-INTERVAL;VALUE=DURATION:PT1H
X-Robots-Tag:noindex
X-PUBLISHED-TTL:PT1H
BEGIN:VTIMEZONE
TZID:America/Los_Angeles
BEGIN:DAYLIGHT
TZOFFSETFROM:-0800
TZOFFSETTO:-0700
TZNAME:PDT
DTSTART:20210314T100000
END:DAYLIGHT
BEGIN:STANDARD
TZOFFSETFROM:-0700
TZOFFSETTO:-0800
TZNAME:PST
DTSTART:20211107T090000
END:STANDARD
BEGIN:DAYLIGHT
TZOFFSETFROM:-0800
TZOFFSETTO:-0700
TZNAME:PDT
DTSTART:20220313T100000
END:DAYLIGHT
BEGIN:STANDARD
TZOFFSETFROM:-0700
TZOFFSETTO:-0800
TZNAME:PST
DTSTART:20221106T090000
END:STANDARD
BEGIN:DAYLIGHT
TZOFFSETFROM:-0800
TZOFFSETTO:-0700
TZNAME:PDT
DTSTART:20230312T100000
END:DAYLIGHT
BEGIN:STANDARD
TZOFFSETFROM:-0700
TZOFFSETTO:-0800
TZNAME:PST
DTSTART:20231105T090000
END:STANDARD
END:VTIMEZONE
BEGIN:VEVENT
DTSTART;TZID=America/Los_Angeles:20220802T083000
DTEND;TZID=America/Los_Angeles:20220802T153000
DTSTAMP:20260425T122211
CREATED:20220707T165143Z
LAST-MODIFIED:20220707T171034Z
UID:11692-1659429000-1659454200@calmutuals.org
SUMMARY:RCAC: Groundwater Well Operation & Maintenance
DESCRIPTION:Groundwater Well Operation & Maintenance: \nDate & Time: August 2\, 2022 | 8:30 AM – 3:30 PM \nLocation: Red Lion Hotel Redding (1830 Hilltop Dr. Redding\, CA 96002) \nDescription: It is crucial to know how your well is performing. Do you know what is going on deep in the ground? What goes into the process of choosing a well site? Well equipment must be maintained and monitored to ensure long life and quality water within the system. Regular monitoring of the wells helps the operator to compile vital information on the health of the source. This is a free training. \nParticipants will learn:  \n\nWell site selection process\nWell inspection\nWell maintenance\nGroundwater qualities\nMonitoring drawdown\nWell sounders: Which one is right for me?\n\nWho should attend?: The recommended audience includes operators\, management\, water system personnel or anyone with an interest in better understanding the value of operating a safe drinking water system. \nAccreditation: 6 California Drinking Water Contact Hours awarded Contact hours have been approved for the Registered Environmental Health Specialist Program. Certificate will be awarded. \n 
URL:https://calmutuals.org/event/rcac-groundwater-well-operation-maintenance-3/
LOCATION:Red Lion Hotel Redding\, 1830 Hilltop Drive\, Redding\, CA\, 96002\, United States
CATEGORIES:Training & Workshop
ATTACH;FMTTYPE=image/jpeg:https://calmutuals.org/wp-content/uploads/rcac.jpg
END:VEVENT
END:VCALENDAR