BEGIN:VCALENDAR
VERSION:2.0
PRODID:-//California Association of Mutual Water Companies - ECPv6.15.20//NONSGML v1.0//EN
CALSCALE:GREGORIAN
METHOD:PUBLISH
X-WR-CALNAME:California Association of Mutual Water Companies
X-ORIGINAL-URL:https://calmutuals.org
X-WR-CALDESC:Events for California Association of Mutual Water Companies
REFRESH-INTERVAL;VALUE=DURATION:PT1H
X-Robots-Tag:noindex
X-PUBLISHED-TTL:PT1H
BEGIN:VTIMEZONE
TZID:America/Los_Angeles
BEGIN:DAYLIGHT
TZOFFSETFROM:-0800
TZOFFSETTO:-0700
TZNAME:PDT
DTSTART:20210314T100000
END:DAYLIGHT
BEGIN:STANDARD
TZOFFSETFROM:-0700
TZOFFSETTO:-0800
TZNAME:PST
DTSTART:20211107T090000
END:STANDARD
BEGIN:DAYLIGHT
TZOFFSETFROM:-0800
TZOFFSETTO:-0700
TZNAME:PDT
DTSTART:20220313T100000
END:DAYLIGHT
BEGIN:STANDARD
TZOFFSETFROM:-0700
TZOFFSETTO:-0800
TZNAME:PST
DTSTART:20221106T090000
END:STANDARD
BEGIN:DAYLIGHT
TZOFFSETFROM:-0800
TZOFFSETTO:-0700
TZNAME:PDT
DTSTART:20230312T100000
END:DAYLIGHT
BEGIN:STANDARD
TZOFFSETFROM:-0700
TZOFFSETTO:-0800
TZNAME:PST
DTSTART:20231105T090000
END:STANDARD
END:VTIMEZONE
BEGIN:VEVENT
DTSTART;TZID=America/Los_Angeles:20220809T093000
DTEND;TZID=America/Los_Angeles:20220809T120000
DTSTAMP:20260425T122317
CREATED:20220714T202822Z
LAST-MODIFIED:20220714T202822Z
UID:11742-1660037400-1660046400@calmutuals.org
SUMMARY:EPA: Renewable Energy at Water Utilities - Part 1
DESCRIPTION:This two-part workshop will include presentations and discussions on: \n\nSolar power\nWind power\nBatteries\nBiogas and combined heat and power\nEconomic and resiliency benefits to renewable energy\nOpportunities and challenges\n\nRegister HERE \nFor further information\, visit: https://www.cifanet.org/online-learning.
URL:https://calmutuals.org/event/epa-renewable-energy-at-water-utilities-part-1-2/
LOCATION:Webinar Only
CATEGORIES:Training & Workshop
ATTACH;FMTTYPE=image/jpeg:https://calmutuals.org/wp-content/uploads/EPA-Logo.jpg
END:VEVENT
BEGIN:VEVENT
DTSTART;TZID=America/Los_Angeles:20220809T093000
DTEND;TZID=America/Los_Angeles:20220809T123000
DTSTAMP:20260425T122317
CREATED:20220707T161935Z
LAST-MODIFIED:20220707T161935Z
UID:11679-1660037400-1660048200@calmutuals.org
SUMMARY:EPA: Renewable Energy at Water Utilities - Part 1
DESCRIPTION:Renewable Energy at Water Utilities – Part 1: August 9\, 2022 | 9:30am – 12:30pm \nDiscuss opportunities for using renewable energy at water utilities including: solar power\, wind power\, batteries\, biogas and combined heat and power\, and inline/conduit hydropower. This two-part workshop will include presentations and discussions on: \n\nSolar power\nWind power\nBatteries\nBiogas and combined heat and power\nEconomic and resiliency benefits to renewable energy\nOpportunities and challenges\n\nClick here to register.
URL:https://calmutuals.org/event/epa-renewable-energy-at-water-utilities-part-1/
LOCATION:Webinar Only
CATEGORIES:Training & Workshop
ATTACH;FMTTYPE=image/png:https://calmutuals.org/wp-content/uploads/EPA-logo-1.png
END:VEVENT
BEGIN:VEVENT
DTSTART;TZID=America/Los_Angeles:20220809T100000
DTEND;TZID=America/Los_Angeles:20220809T110000
DTSTAMP:20260425T122317
CREATED:20220727T211253Z
LAST-MODIFIED:20220727T211253Z
UID:11748-1660039200-1660042800@calmutuals.org
SUMMARY:EFCN: Resiliency Means Business! Preparing for Risks to Safe & Reliable Service
DESCRIPTION:Date & Time: Tuesday\, August 9\, 2022 | 10:00 – 11:00 AM PST \nDescription: We hear about “resilience” a lot these days — given the many pressures and uncertainties felt by businesses\, organizations and even individuals. For lifeline drinking water utilities\, business continuity and performance is a matter of health and life safety. Resilience is often first thought of in terms of emergency and hazard recovery preparations. It extends beyond that to how business is supported in all ongoing aspects. This webinar serves as an introduction to this broad approach\, and a gateway to free tools and assistance available from U.S. EPA and the Environmental Finance Center Network. Topics include: How to scan risk broadly\, including the uncertainty of a changing environment; Access to tools through a downloaded guided inventory document and discussion of examples during the webinar\, and; Opportunities for further one-on-one technical and training assistance from the Network. \nPresenter: Dr. Jack Kartez\, Senior Advisor and Emeritus Director\, New England Environmental Finance Center at the University of Southern Maine \nWho Should Attend: \n\nManagers\, owners\, and operators of water systems serving less than 10\,000 people\nDecision-makers for water utilities\, including mayors\, finance officers\, utility managers\, public works directors\, city councilors\, board members\, tribal council members\, and clerks\nConsultants and technical assistance providers serving water systems\n\nREGISTER HERE
URL:https://calmutuals.org/event/efcn-resiliency-means-business-preparing-for-risks-to-safe-reliable-service/
LOCATION:Webinar Only
CATEGORIES:Training & Workshop
ATTACH;FMTTYPE=image/png:https://calmutuals.org/wp-content/uploads/efcn-logo.png
END:VEVENT
BEGIN:VEVENT
DTSTART;TZID=America/Los_Angeles:20220809T100000
DTEND;TZID=America/Los_Angeles:20220809T120000
DTSTAMP:20260425T122317
CREATED:20220713T205514Z
LAST-MODIFIED:20220713T205514Z
UID:11713-1660039200-1660046400@calmutuals.org
SUMMARY:RCAC: Get the Lead out: Lead & Copper Rule Revisions
DESCRIPTION:Get the Lead out: Lead & Copper Rule Revisions  \nDate & Time: August 9\, 2022 | 10:00 AM – 12:00 PM \nDescription: After 30 years\, the EPA has officially passed new regulations for the Lead and Copper Rule. These revisions are a major step toward keeping communities safe from lead. The new Lead and Copper Rule Revisions (LCRR) will require the water systems and water system operator to rethink how they address lead and copper in their systems. These new requirements will require a thorough understanding of the LCRR’s requirements so you can effectively engage in short- and long-term actions that will ensure compliance and safe water for all your customers.  \nThis webinar will guide drinking water operators through the new Lead and Copper site selection process\, criteria and sampling plans so that water supplies maintain compliance for lead and copper under the Safe Drinking Water Act. This is a free training. \nParticipants will learn:  \n\nThe requirements of the new lead service line inventory\nLead service line replacement requirements\nMonitoring childcare and school facilities\nNew monitoring requirements\nExpanded communications programs\nMore stringent response to elevated lead levels\n\nRecommended Audience: Operators\, managers\, and board members. \nLocation: This training will be hosted online on GoToTraining.  \nRegistration: You must be registered prior to the date of the close of registration to receive credit. https://www.events.rcac.org/assnfe/Cart.asp?Mode=SAVENEWCRS&mlUtil_EventID=3231&mlUtil_FeeID=3066&PID= \nAccreditation: 2 California Drinking Water Contact Hours units awarded \n 
URL:https://calmutuals.org/event/rcac-get-the-lead-out-lead-copper-rule-revisions/
LOCATION:Webinar Only
ATTACH;FMTTYPE=image/jpeg:https://calmutuals.org/wp-content/uploads/rcac.jpg
END:VEVENT
BEGIN:VEVENT
DTSTART;TZID=America/Los_Angeles:20220809T140000
DTEND;TZID=America/Los_Angeles:20220809T160000
DTSTAMP:20260425T122317
CREATED:20220713T205645Z
LAST-MODIFIED:20220713T205645Z
UID:11715-1660053600-1660060800@calmutuals.org
SUMMARY:RCAC: Get the Lead out: Lead & Copper Rule Revisions
DESCRIPTION:Get the Lead out: Lead & Copper Rule Revisions  \nDate & Time: August 9\, 2022 | 2:00 – 4:00 PM \nDescription: After 30 years\, the EPA has officially passed new regulations for the Lead and Copper Rule. These revisions are a major step toward keeping communities safe from lead. The new Lead and Copper Rule Revisions (LCRR) will require the water systems and water system operator to rethink how they address lead and copper in their systems. These new requirements will require a thorough understanding of the LCRR’s requirements so you can effectively engage in short- and long-term actions that will ensure compliance and safe water for all your customers.  \nThis webinar will guide drinking water operators through the new Lead and Copper site selection process\, criteria and sampling plans so that water supplies maintain compliance for lead and copper under the Safe Drinking Water Act. This is a free training. \nParticipants will learn:  \n\nThe requirements of the new lead service line inventory\nLead service line replacement requirements\nMonitoring childcare and school facilities\nNew monitoring requirements\nExpanded communications programs\nMore stringent response to elevated lead levels\n\nRecommended Audience: Operators\, managers\, and board members. \nLocation: This training will be hosted online on GoToTraining.  \nRegistration: You must be registered prior to the date of the close of registration to receive credit. https://www.events.rcac.org/assnfe/Cart.asp?Mode=SAVENEWCRS&mlUtil_EventID=3232&mlUtil_FeeID=3067&PID= \nAccreditation: 2 California Drinking Water Contact Hours units awarded
URL:https://calmutuals.org/event/rcac-get-the-lead-out-lead-copper-rule-revisions-2/
LOCATION:Webinar Only
CATEGORIES:Training & Workshop
ATTACH;FMTTYPE=image/jpeg:https://calmutuals.org/wp-content/uploads/rcac.jpg
END:VEVENT
END:VCALENDAR