BEGIN:VCALENDAR
VERSION:2.0
PRODID:-//California Association of Mutual Water Companies - ECPv6.15.20//NONSGML v1.0//EN
CALSCALE:GREGORIAN
METHOD:PUBLISH
X-WR-CALNAME:California Association of Mutual Water Companies
X-ORIGINAL-URL:https://calmutuals.org
X-WR-CALDESC:Events for California Association of Mutual Water Companies
REFRESH-INTERVAL;VALUE=DURATION:PT1H
X-Robots-Tag:noindex
X-PUBLISHED-TTL:PT1H
BEGIN:VTIMEZONE
TZID:America/Los_Angeles
BEGIN:DAYLIGHT
TZOFFSETFROM:-0800
TZOFFSETTO:-0700
TZNAME:PDT
DTSTART:20210314T100000
END:DAYLIGHT
BEGIN:STANDARD
TZOFFSETFROM:-0700
TZOFFSETTO:-0800
TZNAME:PST
DTSTART:20211107T090000
END:STANDARD
BEGIN:DAYLIGHT
TZOFFSETFROM:-0800
TZOFFSETTO:-0700
TZNAME:PDT
DTSTART:20220313T100000
END:DAYLIGHT
BEGIN:STANDARD
TZOFFSETFROM:-0700
TZOFFSETTO:-0800
TZNAME:PST
DTSTART:20221106T090000
END:STANDARD
BEGIN:DAYLIGHT
TZOFFSETFROM:-0800
TZOFFSETTO:-0700
TZNAME:PDT
DTSTART:20230312T100000
END:DAYLIGHT
BEGIN:STANDARD
TZOFFSETFROM:-0700
TZOFFSETTO:-0800
TZNAME:PST
DTSTART:20231105T090000
END:STANDARD
END:VTIMEZONE
BEGIN:VEVENT
DTSTART;TZID=America/Los_Angeles:20220814T130000
DTEND;TZID=America/Los_Angeles:20220814T160000
DTSTAMP:20260425T122209
CREATED:20220707T163917Z
LAST-MODIFIED:20220707T163917Z
UID:11687-1660482000-1660492800@calmutuals.org
SUMMARY:EFCN: Asset Management and Financial Forecasting: Optimizing Asset Life for Sustained Operations
DESCRIPTION:Asset Management and Financial Forecasting: Optimizing Asset Life for Sustained Operations: September 14\, 2022 | 1:00 – 4:00 PM \nWith limited revenues\, aging infrastructure\, and regulatory obligations to meet\, a comprehensive approach to managing your system is vital. This training will teach you how to: develop an inventory of utility components; identify critical assets for sustained operations; make decisions about how to operate\, repair\, and replace those assets; and set goals for level of service at a sustainable cost. View/Download Flyer. \nClick here to register. 
URL:https://calmutuals.org/event/efcn-asset-management-and-financial-forecasting-optimizing-asset-life-for-sustained-operations/
LOCATION:Webinar Only
CATEGORIES:Training & Workshop
ATTACH;FMTTYPE=image/png:https://calmutuals.org/wp-content/uploads/efcn-logo.png
END:VEVENT
END:VCALENDAR