BEGIN:VCALENDAR
VERSION:2.0
PRODID:-//California Association of Mutual Water Companies - ECPv6.15.20//NONSGML v1.0//EN
CALSCALE:GREGORIAN
METHOD:PUBLISH
X-WR-CALNAME:California Association of Mutual Water Companies
X-ORIGINAL-URL:https://calmutuals.org
X-WR-CALDESC:Events for California Association of Mutual Water Companies
REFRESH-INTERVAL;VALUE=DURATION:PT1H
X-Robots-Tag:noindex
X-PUBLISHED-TTL:PT1H
BEGIN:VTIMEZONE
TZID:America/Los_Angeles
BEGIN:DAYLIGHT
TZOFFSETFROM:-0800
TZOFFSETTO:-0700
TZNAME:PDT
DTSTART:20210314T100000
END:DAYLIGHT
BEGIN:STANDARD
TZOFFSETFROM:-0700
TZOFFSETTO:-0800
TZNAME:PST
DTSTART:20211107T090000
END:STANDARD
BEGIN:DAYLIGHT
TZOFFSETFROM:-0800
TZOFFSETTO:-0700
TZNAME:PDT
DTSTART:20220313T100000
END:DAYLIGHT
BEGIN:STANDARD
TZOFFSETFROM:-0700
TZOFFSETTO:-0800
TZNAME:PST
DTSTART:20221106T090000
END:STANDARD
BEGIN:DAYLIGHT
TZOFFSETFROM:-0800
TZOFFSETTO:-0700
TZNAME:PDT
DTSTART:20230312T100000
END:DAYLIGHT
BEGIN:STANDARD
TZOFFSETFROM:-0700
TZOFFSETTO:-0800
TZNAME:PST
DTSTART:20231105T090000
END:STANDARD
END:VTIMEZONE
BEGIN:VEVENT
DTSTART;TZID=America/Los_Angeles:20220824T090000
DTEND;TZID=America/Los_Angeles:20220824T120000
DTSTAMP:20260425T122209
CREATED:20220707T163700Z
LAST-MODIFIED:20220804T232523Z
UID:11685-1661331600-1661342400@calmutuals.org
SUMMARY:EFCN: Drought Planning: Understanding the Impact of SB 552 on Small Water Supplies
DESCRIPTION:Wednesday\, August 24\, 2022 | 9:00 AM – 12:00 PM  \nWith limited financial and technical resources\, small water systems are particularly vulnerable to drought conditions. As longer and more frequent droughts become the norm\, your system needs to be prepared. Senate Bill 552 introduces new requirements to help small suppliers be better prepared for future water use. This workshop will discuss key points of interest for small water operators who want to be proactive about drought planning. See flyer here.  \nClick here to register. \nWho Should Attend:  \n\nManagers\, owners\, and operators of water systems serving less than 10\,000 people\, or wastewater systems with an average daily flow of less than 1 million gallons\nDecision-makers for water and wastewater utilities\, including mayors\, finance officers\, utility managers\, public works directors\, city councilors\, board members\, tribal council members\, and clerks\nConsultants and technical assistance providers serving water and wastewater systems
URL:https://calmutuals.org/event/efcn-drought-planning-understanding-the-impact-of-sb-552-on-small-water-supplies/
LOCATION:Webinar Only
CATEGORIES:Training & Workshop
ATTACH;FMTTYPE=image/png:https://calmutuals.org/wp-content/uploads/efcn-logo.png
END:VEVENT
END:VCALENDAR