BEGIN:VCALENDAR
VERSION:2.0
PRODID:-//California Association of Mutual Water Companies - ECPv6.15.20//NONSGML v1.0//EN
CALSCALE:GREGORIAN
METHOD:PUBLISH
X-WR-CALNAME:California Association of Mutual Water Companies
X-ORIGINAL-URL:https://calmutuals.org
X-WR-CALDESC:Events for California Association of Mutual Water Companies
REFRESH-INTERVAL;VALUE=DURATION:PT1H
X-Robots-Tag:noindex
X-PUBLISHED-TTL:PT1H
BEGIN:VTIMEZONE
TZID:America/Los_Angeles
BEGIN:DAYLIGHT
TZOFFSETFROM:-0800
TZOFFSETTO:-0700
TZNAME:PDT
DTSTART:20210314T100000
END:DAYLIGHT
BEGIN:STANDARD
TZOFFSETFROM:-0700
TZOFFSETTO:-0800
TZNAME:PST
DTSTART:20211107T090000
END:STANDARD
BEGIN:DAYLIGHT
TZOFFSETFROM:-0800
TZOFFSETTO:-0700
TZNAME:PDT
DTSTART:20220313T100000
END:DAYLIGHT
BEGIN:STANDARD
TZOFFSETFROM:-0700
TZOFFSETTO:-0800
TZNAME:PST
DTSTART:20221106T090000
END:STANDARD
BEGIN:DAYLIGHT
TZOFFSETFROM:-0800
TZOFFSETTO:-0700
TZNAME:PDT
DTSTART:20230312T100000
END:DAYLIGHT
BEGIN:STANDARD
TZOFFSETFROM:-0700
TZOFFSETTO:-0800
TZNAME:PST
DTSTART:20231105T090000
END:STANDARD
END:VTIMEZONE
BEGIN:VEVENT
DTSTART;TZID=America/Los_Angeles:20220829T170000
DTEND;TZID=America/Los_Angeles:20220901T120000
DTSTAMP:20260425T093611
CREATED:20220621T215111Z
LAST-MODIFIED:20220621T215416Z
UID:11664-1661792400-1662033600@calmutuals.org
SUMMARY:19th Annual EPA Drinking Water Workshop: Small System Challenges and Solutions
DESCRIPTION:EPA’s free annual drinking water workshop\, held in partnership with the Association of State Drinking Water Administrators (ASDWA)\, will take place on August 29 – September 1\, 2022 in the greater Cincinnati\, Ohio area. The workshop\, which will be held as a hybrid of in-person and virtual\, will provide in-depth information and training on solutions and strategies for handling small drinking water system challenges\, with a focus on monitoring\, distribution\, source\, and treatment topics. \nEPA’s free annual drinking water workshop\, held in partnership with the Association of State Drinking Water Administrators (ASDWA)\, will take place on August 29 – September 1\, 2022 in the greater Cincinnati\, Ohio area. The workshop\, which will be held as a hybrid of in-person and virtual\, will provide in-depth information and training on solutions and strategies for handling small drinking water system challenges\, with a focus on monitoring\, distribution\, source\, and treatment topics. \nThe workshop will being on Monday evening with networking opportunities and will end on Thursday afternoon.
URL:https://calmutuals.org/event/19th-annual-epa-drinking-water-workshop/
LOCATION:Northern Kentucky Convention Center\, 1 W Rivercenter Blvd\, Covington\, KY\, 41011
CATEGORIES:Training & Workshop
ATTACH;FMTTYPE=image/png:https://calmutuals.org/wp-content/uploads/EPA-logo-1.png
END:VEVENT
END:VCALENDAR