BEGIN:VCALENDAR
VERSION:2.0
PRODID:-//California Association of Mutual Water Companies - ECPv6.15.20//NONSGML v1.0//EN
CALSCALE:GREGORIAN
METHOD:PUBLISH
X-WR-CALNAME:California Association of Mutual Water Companies
X-ORIGINAL-URL:https://calmutuals.org
X-WR-CALDESC:Events for California Association of Mutual Water Companies
REFRESH-INTERVAL;VALUE=DURATION:PT1H
X-Robots-Tag:noindex
X-PUBLISHED-TTL:PT1H
BEGIN:VTIMEZONE
TZID:America/Los_Angeles
BEGIN:DAYLIGHT
TZOFFSETFROM:-0800
TZOFFSETTO:-0700
TZNAME:PDT
DTSTART:20210314T100000
END:DAYLIGHT
BEGIN:STANDARD
TZOFFSETFROM:-0700
TZOFFSETTO:-0800
TZNAME:PST
DTSTART:20211107T090000
END:STANDARD
BEGIN:DAYLIGHT
TZOFFSETFROM:-0800
TZOFFSETTO:-0700
TZNAME:PDT
DTSTART:20220313T100000
END:DAYLIGHT
BEGIN:STANDARD
TZOFFSETFROM:-0700
TZOFFSETTO:-0800
TZNAME:PST
DTSTART:20221106T090000
END:STANDARD
BEGIN:DAYLIGHT
TZOFFSETFROM:-0800
TZOFFSETTO:-0700
TZNAME:PDT
DTSTART:20230312T100000
END:DAYLIGHT
BEGIN:STANDARD
TZOFFSETFROM:-0700
TZOFFSETTO:-0800
TZNAME:PST
DTSTART:20231105T090000
END:STANDARD
END:VTIMEZONE
BEGIN:VEVENT
DTSTART;TZID=America/Los_Angeles:20220907T100000
DTEND;TZID=America/Los_Angeles:20220907T120000
DTSTAMP:20260425T092809
CREATED:20220830T191253Z
LAST-MODIFIED:20220830T191253Z
UID:11796-1662544800-1662552000@calmutuals.org
SUMMARY:RCAC: Pathogens in Drinking Water
DESCRIPTION:Description: Disease outbreaks in water systems are rare\, but they can and do happen. There are hundreds of known disease-causing organisms that can contaminate water\, and new ones being discovered every day. Even 40 years ago\, pathogens like Giardia were not believed to be harmful to humans. \nParticipants will learn: \n\nTypes of disease-causing organisms that are of concern for water systems\nRegulations addressing contamination\nHow to operate and maintain your water systems to minimize the possibility of microbial contamination\n\nAccreditation: 2 California Drinking Water Contact Hours awarded. Contact hours have been approved for the Registered Environmental Health Specialist Program.
URL:https://calmutuals.org/event/rcac-pathogens-in-drinking-water/
LOCATION:Webinar Only
CATEGORIES:Training & Workshop
ATTACH;FMTTYPE=image/jpeg:https://calmutuals.org/wp-content/uploads/rcac.jpg
END:VEVENT
BEGIN:VEVENT
DTSTART;TZID=America/Los_Angeles:20220907T140000
DTEND;TZID=America/Los_Angeles:20220907T160000
DTSTAMP:20260425T092809
CREATED:20220830T191533Z
LAST-MODIFIED:20220830T191533Z
UID:11798-1662559200-1662566400@calmutuals.org
SUMMARY:RCAC: Coliform Sampling Procedures
DESCRIPTION:Description: Sampling for total coliforms and E. coli in the water system is one of the most important things an operator can do. The new Revised Total Coliform Rule (RTCR) effective April 2016 affects every public water system. These revisions to the Total Coliform Rule will affect how operators and managers respond to total coliform positives (TC+) and require steps to analyze the integrity of the system as a result of positive samples. Investigation and corrective actions are at the forefront of the RTCR\, and knowing how to complete a level 1 assessment can be the difference between compliance and violation. This workshop will focus on reviewing triggers for level 1 and level 2 assessments and who is expected to perform them; how to conduct an assessment with examples and small group exercises. \nParticipants will learn: \n\nLearning topics gathered from Trainer\nNew procedures for the month following a TC+\nWhat to do if you have a positive E. coli result\nWhen an assessment of system is needed\nHow to complete a level 1 assessment of your system\nTips on system inspection/investigation\n\nAccreditation: 2 California Drinking Water Contract Hours awarded. Contact hours have been approved for the Registered Environmental Health Specialist Program.
URL:https://calmutuals.org/event/rcac-coliform-sampling-procedures/
LOCATION:Webinar Only
CATEGORIES:Training & Workshop
ATTACH;FMTTYPE=image/jpeg:https://calmutuals.org/wp-content/uploads/rcac.jpg
END:VEVENT
END:VCALENDAR