BEGIN:VCALENDAR
VERSION:2.0
PRODID:-//California Association of Mutual Water Companies - ECPv6.15.20//NONSGML v1.0//EN
CALSCALE:GREGORIAN
METHOD:PUBLISH
X-WR-CALNAME:California Association of Mutual Water Companies
X-ORIGINAL-URL:https://calmutuals.org
X-WR-CALDESC:Events for California Association of Mutual Water Companies
REFRESH-INTERVAL;VALUE=DURATION:PT1H
X-Robots-Tag:noindex
X-PUBLISHED-TTL:PT1H
BEGIN:VTIMEZONE
TZID:America/Los_Angeles
BEGIN:DAYLIGHT
TZOFFSETFROM:-0800
TZOFFSETTO:-0700
TZNAME:PDT
DTSTART:20210314T100000
END:DAYLIGHT
BEGIN:STANDARD
TZOFFSETFROM:-0700
TZOFFSETTO:-0800
TZNAME:PST
DTSTART:20211107T090000
END:STANDARD
BEGIN:DAYLIGHT
TZOFFSETFROM:-0800
TZOFFSETTO:-0700
TZNAME:PDT
DTSTART:20220313T100000
END:DAYLIGHT
BEGIN:STANDARD
TZOFFSETFROM:-0700
TZOFFSETTO:-0800
TZNAME:PST
DTSTART:20221106T090000
END:STANDARD
BEGIN:DAYLIGHT
TZOFFSETFROM:-0800
TZOFFSETTO:-0700
TZNAME:PDT
DTSTART:20230312T100000
END:DAYLIGHT
BEGIN:STANDARD
TZOFFSETFROM:-0700
TZOFFSETTO:-0800
TZNAME:PST
DTSTART:20231105T090000
END:STANDARD
END:VTIMEZONE
BEGIN:VEVENT
DTSTART;TZID=America/Los_Angeles:20220913T100000
DTEND;TZID=America/Los_Angeles:20220913T110000
DTSTAMP:20260425T093609
CREATED:20220810T174220Z
LAST-MODIFIED:20220810T174257Z
UID:11764-1663063200-1663066800@calmutuals.org
SUMMARY:EFCN: Water System Infrastructure Financing
DESCRIPTION:Tuesday\, September 13\, 2022 | 10:00 AM – 11:00 AM PST \nWhat is involved in providing improvements to a public water system? EFCN staff with project management experience will talk about the major funding sources to finance a capital improvement project and describe the process from initial planning to construction of the improvement. \nWho Should attend: \n\nManagers\, owners\, and operators of water systems serving less than 10\,000 people\, or wastewater systems with an average daily flow of less than 1 million gallons\nDecision-makers for water and wastewater utilities\, including mayors\, finance officers\, utility managers\, public works directors\, city councilors\, board members\, tribal council members\, and clerks\nConsultants and technical assistance providers serving water and wastewater systems\n\nREGISTER HERE
URL:https://calmutuals.org/event/efcn-water-system-infrastructure-financing/
LOCATION:Webinar Only
CATEGORIES:Training & Workshop
ATTACH;FMTTYPE=image/png:https://calmutuals.org/wp-content/uploads/efcn-logo.png
END:VEVENT
BEGIN:VEVENT
DTSTART;TZID=America/Los_Angeles:20220913T100000
DTEND;TZID=America/Los_Angeles:20220913T120000
DTSTAMP:20260425T093609
CREATED:20220830T192059Z
LAST-MODIFIED:20220830T192059Z
UID:11802-1663063200-1663070400@calmutuals.org
SUMMARY:RCAC: Hydrant Installation
DESCRIPTION:Description: A crucial part of any Capital Improvement Plan (CIP) is to follow through and complete tasks planned. One of these tasks is the replacement and/or installation of new fire hydrants. This workshop will outline the steps necessary to install wet barrel and dry barrel fire hydrants. This includes the initial planning\, the installation itself and steps that may need to be taken upon completion of the installation. \nParticipants will learn: \n\nCIP overview\nPlanning for fire hydrant installation\nFire hydrant installation\nRecommended steps to follow upon completion of new hydrant installation\n\nWho should attend: water system operators\, maintenance staff and managers. \nAccreditation: 2 California Drinking Water Contact Hours awarded. Contact hours have been approved for the Registered Environmental Health Specialist Program. 
URL:https://calmutuals.org/event/rcac-hydrant-installation/
LOCATION:Webinar Only
CATEGORIES:Training & Workshop
ATTACH;FMTTYPE=image/jpeg:https://calmutuals.org/wp-content/uploads/rcac.jpg
END:VEVENT
BEGIN:VEVENT
DTSTART;TZID=America/Los_Angeles:20220913T140000
DTEND;TZID=America/Los_Angeles:20220913T160000
DTSTAMP:20260425T093609
CREATED:20220830T192212Z
LAST-MODIFIED:20220830T192212Z
UID:11804-1663077600-1663084800@calmutuals.org
SUMMARY:RCAC: Hydrant Installation
DESCRIPTION:Description: A crucial part of any Capital Improvement Plan (CIP) is to follow through and complete tasks planned. One of these tasks is the replacement and/or installation of new fire hydrants. This workshop will outline the steps necessary to install wet barrel and dry barrel fire hydrants. This includes the initial planning\, the installation itself and steps that may need to be taken upon completion of the installation. \nParticipants will learn: \n\nCIP overview\nPlanning for fire hydrant installation\nFire hydrant installation\nRecommended steps to follow upon completion of new hydrant installation\n\nWho should attend: water system operators\, maintenance staff and managers. \nAccreditation: 2 California Drinking Water Contact Hours awarded. Contact hours have been approved for the Registered Environmental Health Specialist Program. 
URL:https://calmutuals.org/event/rcac-hydrant-installation-2/
LOCATION:Webinar Only
CATEGORIES:Training & Workshop
ATTACH;FMTTYPE=image/jpeg:https://calmutuals.org/wp-content/uploads/rcac.jpg
END:VEVENT
END:VCALENDAR