BEGIN:VCALENDAR
VERSION:2.0
PRODID:-//California Association of Mutual Water Companies - ECPv6.15.20//NONSGML v1.0//EN
CALSCALE:GREGORIAN
METHOD:PUBLISH
X-WR-CALNAME:California Association of Mutual Water Companies
X-ORIGINAL-URL:https://calmutuals.org
X-WR-CALDESC:Events for California Association of Mutual Water Companies
REFRESH-INTERVAL;VALUE=DURATION:PT1H
X-Robots-Tag:noindex
X-PUBLISHED-TTL:PT1H
BEGIN:VTIMEZONE
TZID:America/Los_Angeles
BEGIN:DAYLIGHT
TZOFFSETFROM:-0800
TZOFFSETTO:-0700
TZNAME:PDT
DTSTART:20210314T100000
END:DAYLIGHT
BEGIN:STANDARD
TZOFFSETFROM:-0700
TZOFFSETTO:-0800
TZNAME:PST
DTSTART:20211107T090000
END:STANDARD
BEGIN:DAYLIGHT
TZOFFSETFROM:-0800
TZOFFSETTO:-0700
TZNAME:PDT
DTSTART:20220313T100000
END:DAYLIGHT
BEGIN:STANDARD
TZOFFSETFROM:-0700
TZOFFSETTO:-0800
TZNAME:PST
DTSTART:20221106T090000
END:STANDARD
BEGIN:DAYLIGHT
TZOFFSETFROM:-0800
TZOFFSETTO:-0700
TZNAME:PDT
DTSTART:20230312T100000
END:DAYLIGHT
BEGIN:STANDARD
TZOFFSETFROM:-0700
TZOFFSETTO:-0800
TZNAME:PST
DTSTART:20231105T090000
END:STANDARD
END:VTIMEZONE
BEGIN:VEVENT
DTSTART;TZID=America/Los_Angeles:20221004T100000
DTEND;TZID=America/Los_Angeles:20221004T120000
DTSTAMP:20260425T073910
CREATED:20220927T222658Z
LAST-MODIFIED:20220927T222658Z
UID:11860-1664877600-1664884800@calmutuals.org
SUMMARY:RCAC: Groundwater Well Operation & Maintenance
DESCRIPTION:Description: Well equipment must be maintained to ensure long life and quality water within the system. Wells need to be monitored regularly to compile vital information on the health of the source. How is your well performing? What goes into the process of choosing a well site? Have you been monitoring your water levels in the aquifer? This workshop will address these topics and more.  \nParticipants will learn: \n\nWell site selection process\nWell inspection\nWell maintenance\nGroundwater qualities\nMeasuring drawdown\nWell sounders: Which one is right for me?\n\nAccreditation: 2 California Drinking Water Contact Hours awarded. \nRecommended audience: operators\, management\, water system personnel or anyone with an interest in better understanding the value of operating a safe drinking water system.
URL:https://calmutuals.org/event/rcac-groundwater-well-operation-maintenance-4/
LOCATION:Webinar Only
CATEGORIES:Training & Workshop
ATTACH;FMTTYPE=image/jpeg:https://calmutuals.org/wp-content/uploads/rcac.jpg
END:VEVENT
BEGIN:VEVENT
DTSTART;TZID=America/Los_Angeles:20221004T140000
DTEND;TZID=America/Los_Angeles:20221004T160000
DTSTAMP:20260425T073910
CREATED:20220927T223034Z
LAST-MODIFIED:20220927T231225Z
UID:11863-1664892000-1664899200@calmutuals.org
SUMMARY:RCAC: Groundwater Well Operation & Maintenance
DESCRIPTION:Description: Well equipment must be maintained to ensure long life and quality water within the system. Wells need to be monitored regularly to compile vital information on the health of the source. How is your well performing? What goes into the process of choosing a well site? Have you been monitoring your water levels in the aquifer? This workshop will address these topics and more.  \nParticipants will learn: \n\nWell site selection process\nWell inspection\nWell maintenance\nGroundwater qualities\nMeasuring drawdown\nWell sounders: Which one is right for me?\n\nAccreditation: 2 California Drinking Water Contact Hours awarded  \nRecommended audience: operators\, management\, water system personnel or anyone with an interest in better understanding the value of operating a safe drinking water system.
URL:https://calmutuals.org/event/rcac-groundwater-well-operation-maintenance-5/
LOCATION:Webinar Only
CATEGORIES:Training & Workshop
ATTACH;FMTTYPE=image/jpeg:https://calmutuals.org/wp-content/uploads/rcac.jpg
END:VEVENT
END:VCALENDAR