BEGIN:VCALENDAR
VERSION:2.0
PRODID:-//California Association of Mutual Water Companies - ECPv6.15.20//NONSGML v1.0//EN
CALSCALE:GREGORIAN
METHOD:PUBLISH
X-WR-CALNAME:California Association of Mutual Water Companies
X-ORIGINAL-URL:https://calmutuals.org
X-WR-CALDESC:Events for California Association of Mutual Water Companies
REFRESH-INTERVAL;VALUE=DURATION:PT1H
X-Robots-Tag:noindex
X-PUBLISHED-TTL:PT1H
BEGIN:VTIMEZONE
TZID:America/Los_Angeles
BEGIN:DAYLIGHT
TZOFFSETFROM:-0800
TZOFFSETTO:-0700
TZNAME:PDT
DTSTART:20210314T100000
END:DAYLIGHT
BEGIN:STANDARD
TZOFFSETFROM:-0700
TZOFFSETTO:-0800
TZNAME:PST
DTSTART:20211107T090000
END:STANDARD
BEGIN:DAYLIGHT
TZOFFSETFROM:-0800
TZOFFSETTO:-0700
TZNAME:PDT
DTSTART:20220313T100000
END:DAYLIGHT
BEGIN:STANDARD
TZOFFSETFROM:-0700
TZOFFSETTO:-0800
TZNAME:PST
DTSTART:20221106T090000
END:STANDARD
BEGIN:DAYLIGHT
TZOFFSETFROM:-0800
TZOFFSETTO:-0700
TZNAME:PDT
DTSTART:20230312T100000
END:DAYLIGHT
BEGIN:STANDARD
TZOFFSETFROM:-0700
TZOFFSETTO:-0800
TZNAME:PST
DTSTART:20231105T090000
END:STANDARD
END:VTIMEZONE
BEGIN:VEVENT
DTSTART;TZID=America/Los_Angeles:20221006T100000
DTEND;TZID=America/Los_Angeles:20221006T120000
DTSTAMP:20260425T090317
CREATED:20220927T223456Z
LAST-MODIFIED:20220927T223456Z
UID:11867-1665050400-1665057600@calmutuals.org
SUMMARY:Achieve & Maintain Compliance with SDWA Series Part 1 of 3
DESCRIPTION:The Achieve & Maintain Compliance with SDWA 3-Part Series is being held in Pacific Time. \nDescription: After 30 years\, the EPA has officially passed new regulations for the Lead and Copper Rule. These revisions are a major step toward keeping communities safe from lead. The new Lead and Copper Rule Revisions (LCRR) will require the water systems and water system operator to rethink how they address lead and copper in their systems. These new requirements will require a thorough understanding of the LCRR’s requirements so you can effectively engage in short-term and long-term actions that will ensure compliance and safe water for all your customers. \nThis webinar will explain requirements for site selection and sampling plans the LCRR and will guide drinking water operators through the new Lead and Copper site selection process and sampling plans so that supplies maintain compliance for lead and copper under the Safe Drinking Water Act. \nParticipants will learn: \n\nThe requirements of the new lead service line inventory\nLead service line replacement requirements\nMonitoring childcare and school facilities\nNew monitoring requirements\nExpanded communications programs\nMore stringent response to elevated lead levels\n\nRecommended audience: operators\, managers\, and board members.
URL:https://calmutuals.org/event/achieve-maintain-compliance-with-sdwa-series-part-1-of-3/
LOCATION:Webinar Only
CATEGORIES:Training & Workshop
ATTACH;FMTTYPE=image/jpeg:https://calmutuals.org/wp-content/uploads/rcac.jpg
END:VEVENT
END:VCALENDAR