BEGIN:VCALENDAR
VERSION:2.0
PRODID:-//California Association of Mutual Water Companies - ECPv6.15.20//NONSGML v1.0//EN
CALSCALE:GREGORIAN
METHOD:PUBLISH
X-ORIGINAL-URL:https://calmutuals.org
X-WR-CALDESC:Events for California Association of Mutual Water Companies
REFRESH-INTERVAL;VALUE=DURATION:PT1H
X-Robots-Tag:noindex
X-PUBLISHED-TTL:PT1H
BEGIN:VTIMEZONE
TZID:America/Los_Angeles
BEGIN:DAYLIGHT
TZOFFSETFROM:-0800
TZOFFSETTO:-0700
TZNAME:PDT
DTSTART:20210314T100000
END:DAYLIGHT
BEGIN:STANDARD
TZOFFSETFROM:-0700
TZOFFSETTO:-0800
TZNAME:PST
DTSTART:20211107T090000
END:STANDARD
BEGIN:DAYLIGHT
TZOFFSETFROM:-0800
TZOFFSETTO:-0700
TZNAME:PDT
DTSTART:20220313T100000
END:DAYLIGHT
BEGIN:STANDARD
TZOFFSETFROM:-0700
TZOFFSETTO:-0800
TZNAME:PST
DTSTART:20221106T090000
END:STANDARD
BEGIN:DAYLIGHT
TZOFFSETFROM:-0800
TZOFFSETTO:-0700
TZNAME:PDT
DTSTART:20230312T100000
END:DAYLIGHT
BEGIN:STANDARD
TZOFFSETFROM:-0700
TZOFFSETTO:-0800
TZNAME:PST
DTSTART:20231105T090000
END:STANDARD
END:VTIMEZONE
BEGIN:VEVENT
DTSTART;TZID=America/Los_Angeles:20221011T083000
DTEND;TZID=America/Los_Angeles:20221011T123000
DTSTAMP:20260425T090420
CREATED:20220927T223718Z
LAST-MODIFIED:20220927T223718Z
UID:11869-1665477000-1665491400@calmutuals.org
SUMMARY:RCAC: Regulation Essentials: The California Safe Drinking Water Act
DESCRIPTION:Description: The primary mission of every public water system is to provide water that is safe to drink. There are upwards of 100 chemicals and microbials regulated under the California and federal versions of the Safe Drinking Water Act. In addition\, the regulations mandate operational activities and infrastructure standards that help ensure the delivery of safe drinking water. These regulations have changed and evolved over the last 45 years. \nThe California drinking water regulations define “safe drinking water” and mandate operations that maintain water quality. Every operator\, manager and board member is required to have a reconnaissance-level knowledge of California’s drinking water regulations and an understanding of how these regulations apply to the day-to-day operation of a public water system.  \nThis training will be presented in two 2-hour sessions. In general\, these sessions are non-sequential\, meaning that the second session is not predicated on material in the first session.  \nParticipants will learn: \n\nOverview/history/purpose/structure of the Safe Drinking Water Act\nCalifornia Drinking Water Regulations: Need-to-know/Nice-to-know/Where-to-go modules\n\nRecommended audience: All water system operators and managers.  \nAccreditation: 4 California Drinking Water Contact Hours awarded 
URL:https://calmutuals.org/event/rcac-regulation-essentials-the-california-safe-drinking-water-act/
LOCATION:Webinar Only
CATEGORIES:Training & Workshop
ATTACH;FMTTYPE=image/jpeg:https://calmutuals.org/wp-content/uploads/rcac.jpg
END:VEVENT
BEGIN:VEVENT
DTSTART;TZID=America/Los_Angeles:20221011T100000
DTEND;TZID=America/Los_Angeles:20221011T110000
DTSTAMP:20260425T090420
CREATED:20221004T201011Z
LAST-MODIFIED:20221004T201011Z
UID:11907-1665482400-1665486000@calmutuals.org
SUMMARY:EFCN: Regionalization and the Power of Partnership
DESCRIPTION:Running a small system can be challenging. Along with meeting regulatory obligations and satisfying customer expectations\, you may have issues with aging infrastructure\, lack of personnel\, and limited financial resources. Furthermore\, small systems often cost more to operate per capita than large systems because of economy of scale. \nTwo strategies to address these challenges is to work with other utilities or consider regionalization options. In this workshop\, we will discuss various regionalization models and approaches to collaboration including:\n• Informal information sharing\n• Sharing personnel\n• Leveraging shared purchasing power \n• How to prepare your utility for knowledge or technology transfer\n• Regionalization options \nAttendees will be invited to ask questions throughout the webinar.
URL:https://calmutuals.org/event/efcn-regionalization-and-the-power-of-partnership/
LOCATION:Webinar Only
CATEGORIES:Training & Workshop
ATTACH;FMTTYPE=image/png:https://calmutuals.org/wp-content/uploads/efcn-logo.png
END:VEVENT
END:VCALENDAR