BEGIN:VCALENDAR
VERSION:2.0
PRODID:-//California Association of Mutual Water Companies - ECPv6.15.20//NONSGML v1.0//EN
CALSCALE:GREGORIAN
METHOD:PUBLISH
X-WR-CALNAME:California Association of Mutual Water Companies
X-ORIGINAL-URL:https://calmutuals.org
X-WR-CALDESC:Events for California Association of Mutual Water Companies
REFRESH-INTERVAL;VALUE=DURATION:PT1H
X-Robots-Tag:noindex
X-PUBLISHED-TTL:PT1H
BEGIN:VTIMEZONE
TZID:America/Los_Angeles
BEGIN:DAYLIGHT
TZOFFSETFROM:-0800
TZOFFSETTO:-0700
TZNAME:PDT
DTSTART:20210314T100000
END:DAYLIGHT
BEGIN:STANDARD
TZOFFSETFROM:-0700
TZOFFSETTO:-0800
TZNAME:PST
DTSTART:20211107T090000
END:STANDARD
BEGIN:DAYLIGHT
TZOFFSETFROM:-0800
TZOFFSETTO:-0700
TZNAME:PDT
DTSTART:20220313T100000
END:DAYLIGHT
BEGIN:STANDARD
TZOFFSETFROM:-0700
TZOFFSETTO:-0800
TZNAME:PST
DTSTART:20221106T090000
END:STANDARD
BEGIN:DAYLIGHT
TZOFFSETFROM:-0800
TZOFFSETTO:-0700
TZNAME:PDT
DTSTART:20230312T100000
END:DAYLIGHT
BEGIN:STANDARD
TZOFFSETFROM:-0700
TZOFFSETTO:-0800
TZNAME:PST
DTSTART:20231105T090000
END:STANDARD
END:VTIMEZONE
BEGIN:VEVENT
DTSTART;TZID=America/Los_Angeles:20221012T083000
DTEND;TZID=America/Los_Angeles:20221012T153000
DTSTAMP:20260425T072911
CREATED:20220927T223936Z
LAST-MODIFIED:20220927T223936Z
UID:11871-1665563400-1665588600@calmutuals.org
SUMMARY:RCAC: Water Operator Certification Prep
DESCRIPTION:Description: The new California Operator Certification test program allows for operators to take their state exams within weeks of applying. This includes the distribution tests and the treatment tests. This workshop will teach operators the preparation needed for passing these state exams. This will include multiple resources\, study materials and guidance needed to apply and take the test. This workshop will also cover the math basics needed to pass both exams while utilizing the state math conversion sheet. \nParticipants will learn : \n\nWhere to secure study materials\nStudying basics\nWater distribution and water treatment basics\nWater math skills\n\nRecommended audience: drinking water operators\, laborers and management. \nAccreditation: 6 California Drinking Water Contact Hours awarded
URL:https://calmutuals.org/event/rcac-water-operator-certification-prep/
LOCATION:Hampton Inn and Suites Yuba City\, 1375 Sunsweet Blvd\, Yuba Sutter Room\, Yuba City\, CA\, 95991\, United States
CATEGORIES:Training & Workshop
ATTACH;FMTTYPE=image/jpeg:https://calmutuals.org/wp-content/uploads/rcac.jpg
END:VEVENT
BEGIN:VEVENT
DTSTART;TZID=America/Los_Angeles:20221012T100000
DTEND;TZID=America/Los_Angeles:20221012T120000
DTSTAMP:20260425T072911
CREATED:20220822T164302Z
LAST-MODIFIED:20220822T164458Z
UID:11773-1665568800-1665576000@calmutuals.org
SUMMARY:BAYWORK - Webinar 3\, Digital Innovation: Which tools and strategies pay off for utilities?
DESCRIPTION:Part of BAYWORK’s 3-part webinar series where experts discuss digital tools and implications for utility workers. \nWebinar 3 – Digital Innovation: Which tools and strategies pay off for utilities? Wednesday\, October 12th | 10AM to 12PM PST \nThis session will introduce a range of tools now available for staff training (such as digital twins) and analysis (such as Artificial Intelligence and Collective Intelligence)\, as well as guidance on protecting water and wastewater systems from cyber-security risks. \nRegistration Information Coming Soon! \nDownload and share the flyer \nQuestions? Email Elizabeth Toups\, BAYWORK Manager\, at etoups@jvs.org \nSee other webinars offered in this 3-part series: Webinar 1 | Webinar 2  \nWho should attend?: For water and wastewater professionals\, especially: \n\nManagers and supervisors\nOperations and Maintenance Staff\nIT\, Human Resources and others interested in implementing new technology
URL:https://calmutuals.org/event/baywork-webinar-3-digital-innovation-which-tools-and-strategies-pay-off-for-utilities/
LOCATION:Webinar Only
CATEGORIES:Training & Workshop
ATTACH;FMTTYPE=image/png:https://calmutuals.org/wp-content/uploads/baywork-logo.png
ORGANIZER;CN="Baywork":MAILTO:sfbaywork2011@gmail.com
END:VEVENT
END:VCALENDAR