BEGIN:VCALENDAR
VERSION:2.0
PRODID:-//California Association of Mutual Water Companies - ECPv6.15.20//NONSGML v1.0//EN
CALSCALE:GREGORIAN
METHOD:PUBLISH
X-ORIGINAL-URL:https://calmutuals.org
X-WR-CALDESC:Events for California Association of Mutual Water Companies
REFRESH-INTERVAL;VALUE=DURATION:PT1H
X-Robots-Tag:noindex
X-PUBLISHED-TTL:PT1H
BEGIN:VTIMEZONE
TZID:America/Los_Angeles
BEGIN:DAYLIGHT
TZOFFSETFROM:-0800
TZOFFSETTO:-0700
TZNAME:PDT
DTSTART:20210314T100000
END:DAYLIGHT
BEGIN:STANDARD
TZOFFSETFROM:-0700
TZOFFSETTO:-0800
TZNAME:PST
DTSTART:20211107T090000
END:STANDARD
BEGIN:DAYLIGHT
TZOFFSETFROM:-0800
TZOFFSETTO:-0700
TZNAME:PDT
DTSTART:20220313T100000
END:DAYLIGHT
BEGIN:STANDARD
TZOFFSETFROM:-0700
TZOFFSETTO:-0800
TZNAME:PST
DTSTART:20221106T090000
END:STANDARD
BEGIN:DAYLIGHT
TZOFFSETFROM:-0800
TZOFFSETTO:-0700
TZNAME:PDT
DTSTART:20230312T100000
END:DAYLIGHT
BEGIN:STANDARD
TZOFFSETFROM:-0700
TZOFFSETTO:-0800
TZNAME:PST
DTSTART:20231105T090000
END:STANDARD
END:VTIMEZONE
BEGIN:VEVENT
DTSTART;TZID=America/Los_Angeles:20221104T100000
DTEND;TZID=America/Los_Angeles:20221104T110000
DTSTAMP:20260425T073030
CREATED:20221018T181152Z
LAST-MODIFIED:20221018T181152Z
UID:11918-1667556000-1667559600@calmutuals.org
SUMMARY:EFCN: Long-term Investment for Financial Resiliency
DESCRIPTION:Description: This webinar will introduce basic concepts for long-term financial resiliency and asset management. After a brief overview of financial analysis tools\, this webinar will focus on long-term investment strategies and concepts including asset management\, life-cycle costing\, long-term asset planning\, and rates analysis. Information will be shared in lecture format\, through interactive exercises\, sharing of case examples\, and by soliciting and answering participant system-specific questions. \nLearning Objectives:\n\nUnderstand Financial Metrics for Long-Term Planning\nUnderstand Concepts of Asset Criticality\nUnderstand the Relationship Between Life-Cycle Costing and Long-Term Asset Planning\n\n\nPresenter: Andrew Waters\, Project Director\, Environmental Finance Center at the University of North Carolina\n\n\n\n\n\n\n\n\n\n\n\n\n\n\n\nRegister Here\n\n\n\n\n\n\n\n\n\n\n\n\n\n\n\nWho Should Attend: \n\nManagers\, owners\, and operators of wastewater systems with an average daily flow of less than 1 million gallons\nDecision-makers for wastewater utilities\, including mayors\, finance officers\, utility managers\, public works directors\, city councilors\, board members\, tribal council members\, and clerks\nConsultants and technical assistance providers serving wastewater systems
URL:https://calmutuals.org/event/efcn-long-term-investment-for-financial-resiliency/
LOCATION:Webinar Only
CATEGORIES:Training & Workshop
ATTACH;FMTTYPE=image/png:https://calmutuals.org/wp-content/uploads/efcn-logo.png
END:VEVENT
END:VCALENDAR