BEGIN:VCALENDAR
VERSION:2.0
PRODID:-//California Association of Mutual Water Companies - ECPv6.15.20//NONSGML v1.0//EN
CALSCALE:GREGORIAN
METHOD:PUBLISH
X-ORIGINAL-URL:https://calmutuals.org
X-WR-CALDESC:Events for California Association of Mutual Water Companies
REFRESH-INTERVAL;VALUE=DURATION:PT1H
X-Robots-Tag:noindex
X-PUBLISHED-TTL:PT1H
BEGIN:VTIMEZONE
TZID:America/Los_Angeles
BEGIN:DAYLIGHT
TZOFFSETFROM:-0800
TZOFFSETTO:-0700
TZNAME:PDT
DTSTART:20210314T100000
END:DAYLIGHT
BEGIN:STANDARD
TZOFFSETFROM:-0700
TZOFFSETTO:-0800
TZNAME:PST
DTSTART:20211107T090000
END:STANDARD
BEGIN:DAYLIGHT
TZOFFSETFROM:-0800
TZOFFSETTO:-0700
TZNAME:PDT
DTSTART:20220313T100000
END:DAYLIGHT
BEGIN:STANDARD
TZOFFSETFROM:-0700
TZOFFSETTO:-0800
TZNAME:PST
DTSTART:20221106T090000
END:STANDARD
BEGIN:DAYLIGHT
TZOFFSETFROM:-0800
TZOFFSETTO:-0700
TZNAME:PDT
DTSTART:20230312T100000
END:DAYLIGHT
BEGIN:STANDARD
TZOFFSETFROM:-0700
TZOFFSETTO:-0800
TZNAME:PST
DTSTART:20231105T090000
END:STANDARD
END:VTIMEZONE
BEGIN:VEVENT
DTSTART;TZID=America/Los_Angeles:20221108T083000
DTEND;TZID=America/Los_Angeles:20221108T123000
DTSTAMP:20260425T105408
CREATED:20221025T190538Z
LAST-MODIFIED:20221025T190538Z
UID:11932-1667896200-1667910600@calmutuals.org
SUMMARY:RCAC: Pumps & Motors Troubleshooting
DESCRIPTION:Description: How many times has this happened to you? You discover that one of your pumps is not performing like you think it should\, or it will not run at all. What are your next steps? When should you call in an expert? These questions and more will be answered in the Pumps & Motors Troubleshooting workshop. This will be an extensive course in the most common pumping and electrical system issues that could leave you out of water. \nParticipants will learn: \n· Electric motor troubleshooting and common issues \n· Basic types of centrifugal pumps and their characteristics \n· How to calculate TDH in fluid pumping system \n· How to calculate friction loss \n· How to read pump curves \n· Centrifugal pump performance testing and troubleshooting techniques \nOperator Basics Series: The recommended audience includes system operators\, technicians and managers.
URL:https://calmutuals.org/event/rcac-pumps-motors-troubleshooting/
LOCATION:Webinar Only
CATEGORIES:Training & Workshop
ATTACH;FMTTYPE=image/jpeg:https://calmutuals.org/wp-content/uploads/rcac.jpg
END:VEVENT
BEGIN:VEVENT
DTSTART;TZID=America/Los_Angeles:20221108T100000
DTEND;TZID=America/Los_Angeles:20221108T150000
DTSTAMP:20260425T105408
CREATED:20221025T185613Z
LAST-MODIFIED:20221025T185613Z
UID:11925-1667901600-1667919600@calmutuals.org
SUMMARY:BAYWORK Virtual Training Buffet 2022 - Nov 8-10
DESCRIPTION:BAYWORK will be hosting a free three-day\, virtual training of a variety of trainings via Zoom\, Nov 8th\, 9th\, & 10th from 10am to 3pm PST. Session range from diversity\, equity\, and inclusion topics to water chemistry. To view all the session topics and times\, visit the event page here: https://www.baywork.org/baywork-virtual-training-buffet-2022/. \n 
URL:https://calmutuals.org/event/baywork-virtual-training-buffet-2022-nov-8-10/
LOCATION:Webinar Only
CATEGORIES:Training & Workshop
ATTACH;FMTTYPE=image/png:https://calmutuals.org/wp-content/uploads/baywork-logo.png
ORGANIZER;CN="Baywork":MAILTO:sfbaywork2011@gmail.com
END:VEVENT
END:VCALENDAR