BEGIN:VCALENDAR
VERSION:2.0
PRODID:-//California Association of Mutual Water Companies - ECPv6.15.20//NONSGML v1.0//EN
CALSCALE:GREGORIAN
METHOD:PUBLISH
X-ORIGINAL-URL:https://calmutuals.org
X-WR-CALDESC:Events for California Association of Mutual Water Companies
REFRESH-INTERVAL;VALUE=DURATION:PT1H
X-Robots-Tag:noindex
X-PUBLISHED-TTL:PT1H
BEGIN:VTIMEZONE
TZID:America/Los_Angeles
BEGIN:DAYLIGHT
TZOFFSETFROM:-0800
TZOFFSETTO:-0700
TZNAME:PDT
DTSTART:20220313T100000
END:DAYLIGHT
BEGIN:STANDARD
TZOFFSETFROM:-0700
TZOFFSETTO:-0800
TZNAME:PST
DTSTART:20221106T090000
END:STANDARD
BEGIN:DAYLIGHT
TZOFFSETFROM:-0800
TZOFFSETTO:-0700
TZNAME:PDT
DTSTART:20230312T100000
END:DAYLIGHT
BEGIN:STANDARD
TZOFFSETFROM:-0700
TZOFFSETTO:-0800
TZNAME:PST
DTSTART:20231105T090000
END:STANDARD
BEGIN:DAYLIGHT
TZOFFSETFROM:-0800
TZOFFSETTO:-0700
TZNAME:PDT
DTSTART:20240310T100000
END:DAYLIGHT
BEGIN:STANDARD
TZOFFSETFROM:-0700
TZOFFSETTO:-0800
TZNAME:PST
DTSTART:20241103T090000
END:STANDARD
BEGIN:DAYLIGHT
TZOFFSETFROM:-0800
TZOFFSETTO:-0700
TZNAME:PDT
DTSTART:20250309T100000
END:DAYLIGHT
BEGIN:STANDARD
TZOFFSETFROM:-0700
TZOFFSETTO:-0800
TZNAME:PST
DTSTART:20251102T090000
END:STANDARD
END:VTIMEZONE
BEGIN:VEVENT
DTSTART;TZID=America/Los_Angeles:20230719T100000
DTEND;TZID=America/Los_Angeles:20230719T120000
DTSTAMP:20260425T202727
CREATED:20230630T225130Z
LAST-MODIFIED:20230630T225130Z
UID:12334-1689760800-1689768000@calmutuals.org
SUMMARY:RCAC: Groundwater Well Operations & Maintenance
DESCRIPTION:Accreditation: 2 California Drinking Water Contact Hours awarded \nDescription: How is your well performing? How do you know what is going on deep in the ground? Like all equipment\, water wells must be maintained to ensure long life and quality water within the system. Wells need to be monitored regularly to compile vital information on the health of the source. \nParticipants will learn: \n\nWell inspection\n\nWell operation and maintenance practices\nWell pump basics and how to properly throttle a well pump\nGroundwater quality concerns and trouble indicators\nMeasuring drawdown and tracking over time\nWell sounders: Which one is right for me?\n\nThe recommended audience includes operators\, management\, water system personnel or anyone with an interest in better understanding the value of operating a safe drinking water system.
URL:https://calmutuals.org/event/rcac-groundwater-well-operations-maintenance/
LOCATION:Webinar Only
CATEGORIES:Training & Workshop
ATTACH;FMTTYPE=image/jpeg:https://calmutuals.org/wp-content/uploads/rcac.jpg
END:VEVENT
BEGIN:VEVENT
DTSTART;TZID=America/Los_Angeles:20230719T100000
DTEND;TZID=America/Los_Angeles:20230719T120000
DTSTAMP:20260425T202727
CREATED:20230630T225237Z
LAST-MODIFIED:20230630T225237Z
UID:12336-1689760800-1689768000@calmutuals.org
SUMMARY:RCAC: Groundwater Well Operations and Maintenance
DESCRIPTION:Accreditation: 2 California Drinking Water Contact Hours awarded \nDescription: How is your well performing? How do you know what is going on deep in the ground? Like all equipment\, water wells must be maintained to ensure long life and quality water within the system. Wells need to be monitored regularly to compile vital information on the health of the source. \nParticipants will learn: \n\nWell inspection\n\nWell operation and maintenance practices\nWell pump basics and how to properly throttle a well pump\nGroundwater quality concerns and trouble indicators\nMeasuring drawdown and tracking over time\nWell sounders: Which one is right for me?\n\nThe recommended audience includes operators\, management\, water system personnel or anyone with an interest in better understanding the value of operating a safe drinking water system.
URL:https://calmutuals.org/event/rcac-groundwater-well-operations-and-maintenance/
LOCATION:Webinar Only
CATEGORIES:Training & Workshop
ATTACH;FMTTYPE=image/jpeg:https://calmutuals.org/wp-content/uploads/rcac.jpg
END:VEVENT
BEGIN:VEVENT
DTSTART;TZID=America/Los_Angeles:20230815T170000
DTEND;TZID=America/Los_Angeles:20230815T193000
DTSTAMP:20260425T202727
CREATED:20230630T225726Z
LAST-MODIFIED:20230630T225728Z
UID:12338-1692118800-1692127800@calmutuals.org
SUMMARY:CalMutuals 10th Anniversary Celebration
DESCRIPTION:On behalf of our Executive Director Adán Ortega and our board of directors we would like to extend a special invitation to join CalMutuals as we celebrate our 10th Anniversary. Please plan to join us August 15th from 5:30-7PM at the Sutter Club Sacramento to celebrate a decade of growth and honor the pivotal work of Small System Champions! \nThe California Association of Mutual Water Companies (“CalMutuals”) was founded by fourteen (14) mutual water companies to advocate and develop resources to support other mutual water companies statewide. Today\, our membership has grown to include almost 500 mutual water companies. In our first decade\, CalMutuals experienced tremendous growth in membership\, influence\, and the scope of support it provides our members. Our growth would not have been possible without the support of state legislators who understand the challenges of small water systems and actively work towards effective solutions on their behalf. Attached to our invitation is a list of our major milestones and accomplishments as an association. \nTo celebrate our successes and partnerships\, CalMutuals is hosting a 10th Anniversary Reception Tuesday\, Aug.15\, 2023\, from 5:30 to 7 p.m. at the Sutter Club located at 1220 9th St\, Sacramento\, CA 95814.  \nRSVP: https://caomwc.wildapricot.org/event-5314737  \nRefreshments and h’ordeuvres will be served.  \nThank you for your ongoing support.  We look forward to celebrating with you!
URL:https://calmutuals.org/event/calmutuals-10th-anniversary-celebration/
LOCATION:Sutter Club\, 1220 9th St\, Sacramento\, 95814\, United States
CATEGORIES:CalMutuals
ATTACH;FMTTYPE=image/png:https://calmutuals.org/wp-content/uploads/CalMutuals-10th-Anniversary-Save-the-Date.png
END:VEVENT
BEGIN:VEVENT
DTSTART;TZID=America/Los_Angeles:20230815T173000
DTEND;TZID=America/Los_Angeles:20230815T190000
DTSTAMP:20260425T202727
CREATED:20230714T205423Z
LAST-MODIFIED:20230714T205424Z
UID:12379-1692120600-1692126000@calmutuals.org
SUMMARY:CalMutuals 10th Anniversary Reception
DESCRIPTION:Join us August 15th from 5:30-7PM at the Sutter Club Sacramento to celebrate our decade of growth and honor the pivotal work of Small System Champions! \nAll CalMutuals members are welcome to attend.  \nRefreshments and h’ordeuvres will be served. 
URL:https://calmutuals.org/event/calmutuals-10th-anniversary-reception/
LOCATION:Sutter Club\, 1220 9th St\, Sacramento\, 95814\, United States
CATEGORIES:CalMutuals
ATTACH;FMTTYPE=image/jpeg:https://calmutuals.org/wp-content/uploads/CalMutualsLogo.jpg
ORGANIZER;CN="CalMutuals":MAILTO:susan@calmutuals.org
END:VEVENT
BEGIN:VEVENT
DTSTART;TZID=America/Los_Angeles:20231106T110000
DTEND;TZID=America/Los_Angeles:20231107T140000
DTSTAMP:20260425T202727
CREATED:20230929T234458Z
LAST-MODIFIED:20230929T234810Z
UID:12417-1699268400-1699365600@calmutuals.org
SUMMARY:CalMutuals & CalMutuals JPRIMA 2023 Annual Meetings
DESCRIPTION:
URL:https://calmutuals.org/event/calmutuals-calmutuals-jprima-2023-annual-meetings/
LOCATION:The Padre Hotel\, 1702 18th St\,\, Bakersfield\, CA\, 93301
ATTACH;FMTTYPE=image/jpeg:https://calmutuals.org/wp-content/uploads/Historic-Downtown-Bakersfield.jpg
ORGANIZER;CN="CalMutuals":MAILTO:susan@calmutuals.org
END:VEVENT
BEGIN:VEVENT
DTSTART;TZID=America/Los_Angeles:20240930T080000
DTEND;TZID=America/Los_Angeles:20240930T160000
DTSTAMP:20260425T202727
CREATED:20240820T161308Z
LAST-MODIFIED:20240820T172834Z
UID:987484927-1727683200-1727712000@calmutuals.org
SUMMARY:2024 CalMutuals & CalMutuals JPRIMA Annual Meeting & Board Retreat
DESCRIPTION:We cordially invite you to join us for the 2024 Annual Meeting of the California Association of Mutual Water Companies (CalMutuals) and CalMutuals’ Joint Powers Risk and Insurance Management Authority (CalMutuals JPRIMA). Registration is FREE for members of CalMutuals\, CalMutuals JPRIMA and the Community Water Systems Alliance\, as well as for our insurance broker partners. Our annual meeting will be held Monday\, September 30\, 2024 at the Hotel Maya\, 700 Queensway Dr\, Long Beach\, CA 90802. The agenda for the meeting is still being finalized.  \nTo register\, visit https://caomwc.wildapricot.org/event-5820542.  \nTo reserve a room at the Hotel Maya\, use the following link: https://www.hilton.com/en/attend-my-event/calmutualsmeetingretreat/. The reference rate/group code is “918” or “CDT918”. The last day date to receive the group rate is Friday\, September 6\, 2024. \n_______________________________________________________ \nPLEASE SUBMIT YOUR PROXY for election of the CalMutuals Board of Directors. \nWe invite you to vote by downloading and returning the proxy forms through email to ceili@calmutuals.org or by fax to (714) 398-8819.  \nYou should have received an email from Association Voting with the instructions\, links\, and credentials to vote in the CalMutuals Board of Directors election online. If you cannot locate the email\, please reach out by email ceili@calmutuals.org or by telephone 714-709-4040 ext. 2\, and we will provide it to you.
URL:https://calmutuals.org/event/2024-calmutuals-calmutuals-jprima-annual-meeting-board-retreat/
LOCATION:Hotel Maya\, 700 Queensway Dr\, Long Beach\, CA\, 90802\, United States
CATEGORIES:CalMutuals,Meetings
ATTACH;FMTTYPE=image/png:https://calmutuals.org/wp-content/uploads/White-Orange-Simple-Travel-Adventure-Banner-Landscape.png
ORGANIZER;CN="CalMutuals":MAILTO:susan@calmutuals.org
END:VEVENT
END:VCALENDAR