BEGIN:VCALENDAR
VERSION:2.0
PRODID:-//California Association of Mutual Water Companies - ECPv6.15.20//NONSGML v1.0//EN
CALSCALE:GREGORIAN
METHOD:PUBLISH
X-ORIGINAL-URL:https://calmutuals.org
X-WR-CALDESC:Events for California Association of Mutual Water Companies
REFRESH-INTERVAL;VALUE=DURATION:PT1H
X-Robots-Tag:noindex
X-PUBLISHED-TTL:PT1H
BEGIN:VTIMEZONE
TZID:America/Los_Angeles
BEGIN:DAYLIGHT
TZOFFSETFROM:-0800
TZOFFSETTO:-0700
TZNAME:PDT
DTSTART:20210314T100000
END:DAYLIGHT
BEGIN:STANDARD
TZOFFSETFROM:-0700
TZOFFSETTO:-0800
TZNAME:PST
DTSTART:20211107T090000
END:STANDARD
BEGIN:DAYLIGHT
TZOFFSETFROM:-0800
TZOFFSETTO:-0700
TZNAME:PDT
DTSTART:20220313T100000
END:DAYLIGHT
BEGIN:STANDARD
TZOFFSETFROM:-0700
TZOFFSETTO:-0800
TZNAME:PST
DTSTART:20221106T090000
END:STANDARD
BEGIN:DAYLIGHT
TZOFFSETFROM:-0800
TZOFFSETTO:-0700
TZNAME:PDT
DTSTART:20230312T100000
END:DAYLIGHT
BEGIN:STANDARD
TZOFFSETFROM:-0700
TZOFFSETTO:-0800
TZNAME:PST
DTSTART:20231105T090000
END:STANDARD
END:VTIMEZONE
BEGIN:VEVENT
DTSTART;TZID=America/Los_Angeles:20220712T100000
DTEND;TZID=America/Los_Angeles:20220712T110000
DTSTAMP:20260425T122554
CREATED:20220520T145825Z
LAST-MODIFIED:20220520T145825Z
UID:11643-1657620000-1657623600@calmutuals.org
SUMMARY:EFCN: Implementing a Bill Payment Assistance Program
DESCRIPTION:Session four of the Environmental Finance Center Network’s Community Affordability: A Series of Conversations\, Implementing a Bill Payment Assistance Program\, will be held July 12. \nIn this 1-hour webinar\, EFCN at UNC will share an overview of different types of bill assistance programs and provide considerations for how to set up\, fund\, and market your program. The webinar will include information about COVID-related assistance as well.  \nWho Should Attend:  \n\nManagers\, owners\, and operators of water systems serving less than 10\,000 people\nDecision-makers for water utilities\, including mayors\, finance officers\, utility managers\, public works directors\, city councilors\, board members\, tribal council members\, and clerks\nConsultants and technical assistance providers serving water systems\n\nRegister Here
URL:https://calmutuals.org/event/efcn-implementing-a-bill-payment-assistance-program/
LOCATION:Webinar Only
CATEGORIES:Training & Workshop
ATTACH;FMTTYPE=image/png:https://calmutuals.org/wp-content/uploads/efcn-logo.png
END:VEVENT
BEGIN:VEVENT
DTSTART;TZID=America/Los_Angeles:20220719T100000
DTEND;TZID=America/Los_Angeles:20220719T120000
DTSTAMP:20260425T122554
CREATED:20220707T161524Z
LAST-MODIFIED:20220707T161614Z
UID:11675-1658224800-1658232000@calmutuals.org
SUMMARY:EPA: Disaster Recovery Assistance from SRFs and FEMA for Communities - Disaster Response II
DESCRIPTION:Disaster Recovery Assistance from SRFs and FEMA for Communities – Disaster Response II: Tuesday\, July 19 | 10:00 am – 12:00 pm \nDealing with the aftermath of a disaster can be more difficult than the actual disaster itself. Learn how you can work with the Clean Water and Drinking Water State Revolving Funds (SRFs) and the Federal Emergency Management Agency (FEMA) to expedite financial assistance for water and wastewater utilities in the aftermath of a Presidential-declared disaster using Memorandum of Understanding (MOU) between EPA and FEMA. \n\nHear first-hand experience from SRF managers who used the MOU to help communities in their state recover from catastrophic natural disasters.\nAsk FEMA first responders and EPA water professionals for their insight on how to utilize this unique federal partnership to get the assistance you need when a disaster strikes. \nHear from communities\, states\, and federal agency representatives about their experiences.\n\nFor more information\, visit https://www.cifanet.org/online-learning. \nTo register\, visit https://cifa.webex.com/cifa/j.php?RGID=raf8c15b3f353c95caa52af124d834231
URL:https://calmutuals.org/event/epa-disaster-recovery-assistance-from-srfs-and-fema-for-communities-disaster-response-ii/
LOCATION:Webinar Only
CATEGORIES:Training & Workshop
ATTACH;FMTTYPE=image/png:https://calmutuals.org/wp-content/uploads/EPA-logo-1.png
END:VEVENT
BEGIN:VEVENT
DTSTART;TZID=America/Los_Angeles:20220721T083000
DTEND;TZID=America/Los_Angeles:20220721T153000
DTSTAMP:20260425T122554
CREATED:20220707T164635Z
LAST-MODIFIED:20220707T164635Z
UID:11689-1658392200-1658417400@calmutuals.org
SUMMARY:RCAC: Maintaining Distribution Water Quality Using: System Maps\, Valves & Flushing
DESCRIPTION:Maintaining Distribution Water Quality Using: System Maps\, Valves & Flushing: July 21\, 2022 | 8:30 AM – 3:30 PM | Four Points by Sheraton Bakersfield \nDate & Time: July 21\, 2022 | 8:30AM-3:30PM \nAccreditation: 6 California Drinking Water Contact Hours awarded. Contact hours have been approved for the Registered Environmental Health Specialist Program. Certificate will be awarded. \nDescription: To be effective in their job of providing safe drinking water to their customers\, certified water system operators need to possess a wide range of knowledge on many different subjects. This in person workshop will test the participant’s understanding of a range of drinking water topics. The instructors will provide a detailed explanation of many of these topics. \nParticipants will learn: \n\nHow to use\, test and update water system maps and their effect in maintaining water quality\nWe will look at valve types and there uses in the system\nThe need for a valve turning program\nHow to create and execute system wide flushing program and dead-end program\n\nWho should attend?: The recommended audience includes distribution system operators. \nLocation: This training will be hosted at the following address: \nFour Points by Sheraton Bakersfield\n5101 California Avenue\nBakersfield\, CA 93309 \nParking is complimentary 
URL:https://calmutuals.org/event/rcac-maintaining-distribution-water-quality-using-system-maps-valves-flushing/
LOCATION:Four Points by Sheraton\, 5101 California Ave\, Bakersfield\, California\, 93309
CATEGORIES:Training & Workshop
ATTACH;FMTTYPE=image/jpeg:https://calmutuals.org/wp-content/uploads/rcac.jpg
END:VEVENT
BEGIN:VEVENT
DTSTART;TZID=America/Los_Angeles:20220726T100000
DTEND;TZID=America/Los_Angeles:20220726T120000
DTSTAMP:20260425T122554
CREATED:20220713T204819Z
LAST-MODIFIED:20220713T204819Z
UID:11709-1658829600-1658836800@calmutuals.org
SUMMARY:RCAC: Water System Basic Operations
DESCRIPTION:Date & Time: July 26\, 2022 | 10:00AM-12:00PM \nDescription: A public water system manager and operator have a lot of irons in the fire. They answer to their customers\, local government (board of directors)\, state and county primacy agencies\, other state/county/federal agencies and various businesses/industry. Where does one begin? It all begins with operations\, and the managers/operators need to ensure that safe water is consistently delivered to the customers; this water is under sufficient pressure; all required water testing is performed promptly and with proper testing techniques; and that all records are documented accurately and as required. This workshop will utilize the trainer’s experiences\, as well as the experience of participants in the workshop\, to explore these topics and others as encountered by the experienced managers/operators that will be attending this training. This is a free training. \nParticipants will learn:  \n\nAbout doing “the rounds”\nRecord keeping and reporting\nDaily/weekly/monthly tasks\nTheir responsibility to the public\nAbout dealing with the board of directors or other local government\n\nRecommended Audience: Local government board of directors\, managers and operators.   \nLocation: This training will be hosted online on GoToTraining. \nRegistration: https://www.events.rcac.org/assnfe/Cart.asp?Mode=SAVENEWCRS&mlUtil_EventID=3229&mlUtil_FeeID=3064&PID= \nAccreditation: 2 California Drinking Water Contact Hours units awarded
URL:https://calmutuals.org/event/rcac-water-system-basic-operations/
LOCATION:Webinar Only
CATEGORIES:Training & Workshop
ATTACH;FMTTYPE=image/jpeg:https://calmutuals.org/wp-content/uploads/rcac.jpg
END:VEVENT
BEGIN:VEVENT
DTSTART;TZID=America/Los_Angeles:20220726T140000
DTEND;TZID=America/Los_Angeles:20220726T160000
DTSTAMP:20260425T122554
CREATED:20220713T204951Z
LAST-MODIFIED:20220713T204951Z
UID:11711-1658844000-1658851200@calmutuals.org
SUMMARY:RCAC: Water System Basic Operations
DESCRIPTION:Date & Time: July 26\, 2022 | 2:00 – 4:00 PM \nDescription: A public water system manager and operator have a lot of irons in the fire. They answer to their customers\, local government (board of directors)\, state and county primacy agencies\, other state/county/federal agencies and various businesses/industry. Where does one begin? It all begins with operations\, and the managers/operators need to ensure that safe water is consistently delivered to the customers; this water is under sufficient pressure; all required water testing is performed promptly and with proper testing techniques; and that all records are documented accurately and as required. This workshop will utilize the trainer’s experiences\, as well as the experience of participants in the workshop\, to explore these topics and others as encountered by the experienced managers/operators that will be attending this training. This is a free training. \nParticipants will learn:  \n\nAbout doing “the rounds”\nRecord keeping and reporting\nDaily/weekly/monthly tasks\nTheir responsibility to the public\nAbout dealing with the board of directors or other local government\n\nRecommended Audience: Local government board of directors\, managers and operators.   \nLocation: This training will be hosted online on GoToTraining. \nRegistration: https://www.events.rcac.org/assnfe/Cart.asp?Mode=SAVENEWCRS&mlUtil_EventID=3229&mlUtil_FeeID=3064&PID= \nAccreditation: 2 California Drinking Water Contact Hours units awarded
URL:https://calmutuals.org/event/rcac-water-system-basic-operations-2/
LOCATION:Webinar Only
CATEGORIES:Training & Workshop
ATTACH;FMTTYPE=image/jpeg:https://calmutuals.org/wp-content/uploads/rcac.jpg
END:VEVENT
BEGIN:VEVENT
DTSTART;TZID=America/Los_Angeles:20220727T080000
DTEND;TZID=America/Los_Angeles:20220727T170000
DTSTAMP:20260425T122554
CREATED:20220705T194748Z
LAST-MODIFIED:20220705T194748Z
UID:11673-1658908800-1658941200@calmutuals.org
SUMMARY:EFCN: Introduction to Green Asset Management
DESCRIPTION:Description: Green Asset Management offers a comprehensive approach to managing the green and gray components of a water\, wastewater\, or stormwater system\, stretching limited revenues\, addressing aging infrastructure\, facilitating regulatory compliance and avoiding costly component failures and service disruptions. \nIn this training\, you will learn about how the traditional asset management approach can be applied to both the gray AND green elements of your system. Not sure where to begin? We will provide you with the tools you need to get started and will walk you through the process.\n\nPresenters: Jennifer Egan\, PG\, PhD\, Program Manager; and Michelle Kokolis\, Environmental Finance Center at the University of Maryland\n \nRegister HERE\n \n\nWho Should Attend: \n\nManagers\, owners\, and operators of water systems serving less than 10\,000 people\, or wastewater systems with an average daily flow of less than 1 million gallons\nDecision-makers for water and wastewater utilities\, including mayors\, finance officers\, utility managers\, public works directors\, city councilors\, board members\, tribal council members\, and clerks\nConsultants and technical assistance providers serving water and wastewater systems
URL:https://calmutuals.org/event/efcn-introduction-to-green-asset-management/
LOCATION:Webinar Only
CATEGORIES:Training & Workshop
ATTACH;FMTTYPE=image/png:https://calmutuals.org/wp-content/uploads/efcn-logo.png
END:VEVENT
END:VCALENDAR